BEGIN:VCALENDAR
VERSION:2.0
PRODID:-//Pierpont Community &amp; Technical College - ECPv6.15.17.1//NONSGML v1.0//EN
CALSCALE:GREGORIAN
METHOD:PUBLISH
X-ORIGINAL-URL:https://www.pierpont.edu
X-WR-CALDESC:Events for Pierpont Community &amp; Technical College
REFRESH-INTERVAL;VALUE=DURATION:PT1H
X-Robots-Tag:noindex
X-PUBLISHED-TTL:PT1H
BEGIN:VTIMEZONE
TZID:America/New_York
BEGIN:DAYLIGHT
TZOFFSETFROM:-0500
TZOFFSETTO:-0400
TZNAME:EDT
DTSTART:20240310T070000
END:DAYLIGHT
BEGIN:STANDARD
TZOFFSETFROM:-0400
TZOFFSETTO:-0500
TZNAME:EST
DTSTART:20241103T060000
END:STANDARD
BEGIN:DAYLIGHT
TZOFFSETFROM:-0500
TZOFFSETTO:-0400
TZNAME:EDT
DTSTART:20250309T070000
END:DAYLIGHT
BEGIN:STANDARD
TZOFFSETFROM:-0400
TZOFFSETTO:-0500
TZNAME:EST
DTSTART:20251102T060000
END:STANDARD
BEGIN:DAYLIGHT
TZOFFSETFROM:-0500
TZOFFSETTO:-0400
TZNAME:EDT
DTSTART:20260308T070000
END:DAYLIGHT
BEGIN:STANDARD
TZOFFSETFROM:-0400
TZOFFSETTO:-0500
TZNAME:EST
DTSTART:20261101T060000
END:STANDARD
END:VTIMEZONE
BEGIN:VEVENT
DTSTART;TZID=America/New_York:20251205T180000
DTEND;TZID=America/New_York:20251205T200000
DTSTAMP:20260420T031637
CREATED:20250828T145100Z
LAST-MODIFIED:20251016T164822Z
UID:10000987-1764957600-1764964800@www.pierpont.edu
SUMMARY:Friday Night Out
DESCRIPTION:🎳 Strike Up Some Fun 🎳 \nFor December\, we’re shifting to Friday Night Out\, testing our bowling skills at the Fairmont Bowling Center! Gather your friends and enjoy a night full of strikes\, spares\, snacks\, and plenty of laughs\, Pierpont-style. Thursday Night Out is your chance to relax\, make memories\, and join in on the fun—don’t miss it!
URL:https://www.pierpont.edu/event/take-over-thursdays-2/
LOCATION:WV
CATEGORIES:Community Events,Employee Events,Student Events
ATTACH;FMTTYPE=image/jpeg:https://www.pierpont.edu/wp-content/uploads/2025/08/Events-TV-Calendar-Bowling-December.jpeg
ORGANIZER;CN="Student Services":MAILTO:studentservices@pierpont.edu
END:VEVENT
BEGIN:VEVENT
DTSTART;TZID=America/New_York:20251114T130000
DTEND;TZID=America/New_York:20251114T160000
DTSTAMP:20260420T031637
CREATED:20251103T165911Z
LAST-MODIFIED:20251103T165913Z
UID:10001198-1763125200-1763136000@www.pierpont.edu
SUMMARY:Pet Wellness Clinic
DESCRIPTION:Pierpont’s Veterinary Technology Program and the Marion County Humane Society invite you to a free Pet Wellness Clinic on Friday\, November 14\, 2025\, from 1 – 4 p.m. at the Veterinary Technology Building on the Clarksburg Campus (211 S Chestnut Street). Licensed veterinarians will provide comprehensive physical exams\, along with complimentary Distemper and Rabies vaccines\, and microchips for both dogs and cats. Walk-ins only! Plus\, pick up resources and business cards from local veterinary practices for ongoing care.
URL:https://www.pierpont.edu/event/pet-wellness-clinic/
LOCATION:Veterinary Technology Building\, 211 S Chestnut Street\, Clarksburg\, West Virginia\, 26301\, United States
CATEGORIES:Community Events,Employee Events,Student Events,Student Organizations
ATTACH;FMTTYPE=image/jpeg:https://www.pierpont.edu/wp-content/uploads/2025/11/Events-Calendar-pet-wellness-clinic.jpg
END:VEVENT
BEGIN:VEVENT
DTSTART;TZID=America/New_York:20251106T060000
DTEND;TZID=America/New_York:20251106T200000
DTSTAMP:20260420T031637
CREATED:20250819T185914Z
LAST-MODIFIED:20251016T131815Z
UID:10000413-1762408800-1762459200@www.pierpont.edu
SUMMARY:Thursday Night Out @ LumberjAxe
DESCRIPTION:🎯 Aim for Fun: First Thursday! 🪓 \nFor November’s Thursday Night Out\, we’re taking aiming for fun with Axe Throwing at LumberjAxe! Gather your friends\, test your skills\, and enjoy an evening full of laughter\, friendly competition\, and community spirit Pierpont-style. Thursday Night Out is your chance to relax\, make memories\, and join in on the fun—don’t miss it!
URL:https://www.pierpont.edu/event/takeover-thursdays-3/
LOCATION:308 Merchant St\, Fairmont\, WV 26554\, 308 Merchant St\, Fairmont\, WV 26554\, Fairmont\, W=\, 26554
CATEGORIES:Community Events,Employee Events,Student Events
ATTACH;FMTTYPE=image/jpeg:https://www.pierpont.edu/wp-content/uploads/2025/08/Events-Calendar-Lumberjax-Axe-November.jpg
END:VEVENT
BEGIN:VEVENT
DTSTART;TZID=America/New_York:20251011T100000
DTEND;TZID=America/New_York:20251011T160000
DTSTAMP:20260420T031637
CREATED:20250924T191445Z
LAST-MODIFIED:20250926T163207Z
UID:10000990-1760176800-1760198400@www.pierpont.edu
SUMMARY:Student Vet Tech Association Pet Wash Fundraiser
DESCRIPTION:Get your furry friends fresh and clean at the Pet Wash\, sponsored by the Student Vet Tech Association\, on October 11 from 10 AM to 4 PM at 211 S Chestnut St\, Clarksburg\, WV! \nPrices: \n\nSmall dogs & cats (up to 20lbs) – $20\nMedium dogs (21-45lbs) – $25\nLarge dogs (46-85lbs) – $30\nExtra-large dogs (86+lbs) – $35\nNail trims & gland expression – $10 each\n\nAnimals will be bathed in the order they arrive! Cash only.
URL:https://www.pierpont.edu/event/student-vet-tech-association-pet-wash-fundraiser/
LOCATION:The Clarksburg Campus\, 501 W. Main St.\, Clarksburg\, WV\, 26301\, United States
CATEGORIES:Community Events,Employee Events,Student Events,Student Organizations
ATTACH;FMTTYPE=image/jpeg:https://www.pierpont.edu/wp-content/uploads/2025/09/Copy-of-Student-Vet-Tech-Association.jpg
END:VEVENT
BEGIN:VEVENT
DTSTART;TZID=America/New_York:20251005T000000
DTEND;TZID=America/New_York:20251011T235959
DTSTAMP:20260420T031637
CREATED:20250813T033827Z
LAST-MODIFIED:20250813T033828Z
UID:10000338-1759622400-1760227199@www.pierpont.edu
SUMMARY:Mental Illness Awareness Week
DESCRIPTION:Join us as we come together to support mental health\, break the stigma\, and build a caring campus community.\n\nMore details to come for individual activities/events.
URL:https://www.pierpont.edu/event/mental-illness-awareness-week/
LOCATION:WV
CATEGORIES:Community Events,Employee Events,Student Events
END:VEVENT
BEGIN:VEVENT
DTSTART;TZID=America/New_York:20250610T130000
DTEND;TZID=America/New_York:20250610T150000
DTSTAMP:20260420T031637
CREATED:20250523T140300Z
LAST-MODIFIED:20250523T140311Z
UID:10000080-1749560400-1749567600@www.pierpont.edu
SUMMARY:Health Careers Open House
DESCRIPTION:Discover your future in healthcare with Pierpont’s Health Science programs! If you’re thinking about becoming a radiologic technologist\, licensed practical nursing\, or working in another healthcare field\, Pierpont can help you get there. With fun\, hands-on classes and real-life training\, you’ll be ready for a job that helps people. It’s a great chance to learn\, grow\, and start a career in health science. \n\n\n\nThis event will give you the opportunity to explore many of the health career programs at Pierpont and learn more about each one. Join us to get a better sense of all the exciting programs we offer and start your journey today!
URL:https://www.pierpont.edu/event/health-careers-open-house/
LOCATION:Advanced Technology Center\, 500 Galliher Drive\, Fairmont\, WV\, 26554\, United States
CATEGORIES:Community Events
ATTACH;FMTTYPE=image/jpeg:https://www.pierpont.edu/wp-content/uploads/2025/05/Health-Sciences-Open-House.jpg
ORGANIZER;CN="Student Services":MAILTO:studentservices@pierpont.edu
END:VEVENT
BEGIN:VEVENT
DTSTART;TZID=America/New_York:20250508T140000
DTEND;TZID=America/New_York:20250508T150000
DTSTAMP:20260420T031637
CREATED:20250508T115906Z
LAST-MODIFIED:20250508T115907Z
UID:10000039-1746712800-1746716400@www.pierpont.edu
SUMMARY:Learn About Our Accreditors
DESCRIPTION:Pierpont Community\, you are invited to an important campus event that will help you better understand the role of institutional accreditation and how it directly impacts you and your education at Pierpont. \nWe’re hosting two sessions titled: Learn About Our Accreditors – Who Are They and Why Are They Coming \nAt these sessions\, we’ll introduce the Higher Learning Commission (HLC) — Pierpont’s institutional accreditor — and explain why their upcoming visit in Fall 2025 matters. You’ll gain insight into how accreditation works\, what it means for your academic experience\, and how students play a vital role in the process. \nYou may attend either location: \n\n📍 Clarksburg Location\nWednesday\, May 7 | 11 a.m.\nGaston Caperton Center\, Room 148\n501 W. Main Street\, Clarksburg\, WV \n\n📍 Fairmont Location\nThursday\, May 8 | 2 p.m.\nAdvanced Technology Center\, Room 216A\n500 Galliher Drive\, Fairmont\, WV \n  \nBoth sessions are open to all students\, faculty\, and staff. Your participation is encouraged! \nIf you’d like to learn more in advance\, you can visit our accreditation page. \nWe look forward to seeing you there!
URL:https://www.pierpont.edu/event/learn-about-our-accreditors/
LOCATION:Advanced Technology Center\, 500 Galliher Drive\, Fairmont\, WV\, 26554\, United States
CATEGORIES:Community Events,Employee Events,Student Events
ATTACH;FMTTYPE=image/jpeg:https://www.pierpont.edu/wp-content/uploads/2025/05/Untitled-design-1.jpg
ORGANIZER;CN="Office of Institutional Effectiveness":MAILTO:oboltz@pierpont.edu
END:VEVENT
BEGIN:VEVENT
DTSTART;TZID=America/New_York:20250507T113000
DTEND;TZID=America/New_York:20250507T123000
DTSTAMP:20260420T031637
CREATED:20250501T134656Z
LAST-MODIFIED:20250501T134657Z
UID:10000032-1746617400-1746621000@www.pierpont.edu
SUMMARY:Yoga
DESCRIPTION:Yoga mats are provided\, so just come ready to unwind. Join us in room 148.
URL:https://www.pierpont.edu/event/yoga-2/
LOCATION:The Clarksburg Campus\, 501 W. Main St.\, Clarksburg\, WV\, 26301\, United States
CATEGORIES:Community Events,Student Events
ORGANIZER;CN="Student Services":MAILTO:studentservices@pierpont.edu
END:VEVENT
BEGIN:VEVENT
DTSTART;TZID=America/New_York:20250506T120000
DTEND;TZID=America/New_York:20250506T130000
DTSTAMP:20260420T031637
CREATED:20250501T134552Z
LAST-MODIFIED:20250501T134553Z
UID:10000031-1746532800-1746536400@www.pierpont.edu
SUMMARY:Yoga
DESCRIPTION:Yoga mats are provided\, so just come ready to unwind. Join us in room 216A.
URL:https://www.pierpont.edu/event/yoga/
LOCATION:Advanced Technology Center\, 500 Galliher Drive\, Fairmont\, WV\, 26554\, United States
CATEGORIES:Community Events,Student Events
ORGANIZER;CN="Student Services":MAILTO:studentservices@pierpont.edu
END:VEVENT
BEGIN:VEVENT
DTSTART;TZID=America/New_York:20250505T113000
DTEND;TZID=America/New_York:20250505T123000
DTSTAMP:20260420T031637
CREATED:20250501T135101Z
LAST-MODIFIED:20250501T135103Z
UID:10000034-1746444600-1746448200@www.pierpont.edu
SUMMARY:Walk It Out! @ Aviation & Culinary
DESCRIPTION:Grab a pedometer\, walk 5\,000 steps\, and be entered for a chance to win a Smartwatch!
URL:https://www.pierpont.edu/event/walk-it-out-aviation-culinary/
LOCATION:Robert C. Byrd National Aerospace Education Center\, 1050 Industrial Road East\, Bridgeport\, WV\, 26330\, United States
CATEGORIES:Community Events,Employee Events,Student Events
ORGANIZER;CN="Student Services":MAILTO:studentservices@pierpont.edu
END:VEVENT
BEGIN:VEVENT
DTSTART;TZID=America/New_York:20250505T113000
DTEND;TZID=America/New_York:20250505T123000
DTSTAMP:20260420T031637
CREATED:20250501T134947Z
LAST-MODIFIED:20250501T135014Z
UID:10000033-1746444600-1746448200@www.pierpont.edu
SUMMARY:Walk It Out! @ ATC & Caperton
DESCRIPTION:Grab a pedometer\, walk 5\,000 steps\, and be entered for a chance to win a Smartwatch!
URL:https://www.pierpont.edu/event/walk-it-out-atc-caperton/
LOCATION:Advanced Technology Center\, 500 Galliher Drive\, Fairmont\, WV\, 26554\, United States
CATEGORIES:Community Events,Employee Events,Student Events
ORGANIZER;CN="Student Services":MAILTO:studentservices@pierpont.edu
END:VEVENT
BEGIN:VEVENT
DTSTART;TZID=America/New_York:20250503T100000
DTEND;TZID=America/New_York:20250503T160000
DTSTAMP:20260420T031637
CREATED:20250418T142534Z
LAST-MODIFIED:20250418T142534Z
UID:10000009-1746266400-1746288000@www.pierpont.edu
SUMMARY:Pet Wash Fundraiser
DESCRIPTION:Get your furry friends fresh and clean at the Pet Wash\, sponsored by the Student Vet Tech Association\, on May 3rd from 10 AM to 4 PM at 221 S Chestnut St\, Clarksburg\, WV! Cash only. Prices: Small dogs & cats (up to 20lbs) – $20\, Medium dogs (21-45lbs) – $25\, Large dogs (46-85lbs) – $30\, Extra-large dogs (86+lbs) – $35. Extra services: Nail trims & anal gland expression – $10 each. Animals will be bathed in the order they arrive!
URL:https://www.pierpont.edu/event/pet-wash-fundraiser/
LOCATION:The Clarksburg Campus\, 501 W. Main St.\, Clarksburg\, WV\, 26301\, United States
CATEGORIES:Community Events,Student Events,Student Organizations
ATTACH;FMTTYPE=image/jpeg:https://www.pierpont.edu/wp-content/uploads/2025/04/Pet-Wash-Social.jpg
END:VEVENT
BEGIN:VEVENT
DTSTART;TZID=America/New_York:20250501T113000
DTEND;TZID=America/New_York:20250501T130000
DTSTAMP:20260420T031637
CREATED:20250418T164032Z
LAST-MODIFIED:20250418T164113Z
UID:10000010-1746099000-1746104400@www.pierpont.edu
SUMMARY:Lunch & Learn with PC&TC's Career and Corporate Training
DESCRIPTION:This event is designed for business and industry professionals\, as well as faculty and staff\, to explore the Learn & Earn Grant Opportunity. \nKindly RSVP by Thursday\, April 24\, 2025\, by emailing cct@pierpont.edu.
URL:https://www.pierpont.edu/event/lunch-learn-with-pctcs-career-and-corporate-training/
LOCATION:Advanced Technology Center\, 500 Galliher Drive\, Fairmont\, WV\, 26554\, United States
CATEGORIES:Community Events
ATTACH;FMTTYPE=image/jpeg:https://www.pierpont.edu/wp-content/uploads/2025/04/Lunch-Learn-2025-scaled.jpg
END:VEVENT
END:VCALENDAR